BEGIN:VCALENDAR
VERSION:2.0
CALSCALE:GREGORIAN
PRODID:adamgibbons/ics
METHOD:PUBLISH
X-PUBLISHED-TTL:PT1H
BEGIN:VEVENT
UID:9546@calendari.cc
SUMMARY:Trobada d'intervenció gràfica
DTSTAMP:20260422T202738Z
DTSTART:20260507T163000Z
URL:https://calendari.cc/event/trobada-dintervencio-grafica
GEO:41.3692;2.13703
LOCATION:Can Batlló - 19\, Carrer de la Constitució\, la Bordeta\, Barcelon
	a\, 08014
STATUS:CONFIRMED
CATEGORIES:art,arte urbano,can batlló
END:VEVENT
END:VCALENDAR
